BEGIN:VCALENDAR
VERSION:2.0
PRODID:-//Advanced Hardwood Biofuels Northwest [Archived] - ECPv5.9.0//NONSGML v1.0//EN
CALSCALE:GREGORIAN
METHOD:PUBLISH
X-WR-CALNAME:Advanced Hardwood Biofuels Northwest [Archived]
X-ORIGINAL-URL:https://hardwoodbiofuels.org
X-WR-CALDESC:Events for Advanced Hardwood Biofuels Northwest [Archived]
BEGIN:VTIMEZONE
TZID:America/Los_Angeles
BEGIN:DAYLIGHT
TZOFFSETFROM:-0800
TZOFFSETTO:-0700
TZNAME:PDT
DTSTART:20160313T100000
END:DAYLIGHT
BEGIN:STANDARD
TZOFFSETFROM:-0700
TZOFFSETTO:-0800
TZNAME:PST
DTSTART:20161106T090000
END:STANDARD
END:VTIMEZONE
BEGIN:VEVENT
DTSTART;TZID=America/Los_Angeles:20160607T090000
DTEND;TZID=America/Los_Angeles:20160607T150000
DTSTAMP:20260422T061415
CREATED:20160315T160356Z
LAST-MODIFIED:20160606T143717Z
UID:7320-1465290000-1465311600@hardwoodbiofuels.org
SUMMARY:Poplar for Biofuels in the Rathdrum-Spokane Valley: Workshop and 4th Annual Bioenergy Field Tour
DESCRIPTION:Poplar for Biofuels in the Rathdrum-Spokane Valley: Workshop and 4th Annual Bioenergy Field Tour \nJune 7\, 2016 | 9am – 3pm\n \nHayden\, Idaho \nRegister at http://goo.gl/forms/x8zqEkzGcR \nJoin us to explore the potential for a poplar-based biofuels industry in the Rathdrum-Spokane Valley. We will discuss growing poplar trees as a bioenergy crop and opportunities for biofuel and bioproduct developments in the Rathdrum-Spokane Valley. After lunch\, we will tour the Reuse Farm at the Hayden Area Regional Sewer Board facility\, including AHB’s 65-acre “Poplar for Biofuels” Demonstration Site. \nTopics include:  \n\nGrowing poplar as a wastewater management tool\nBest areas to produce biofuels and bioproducts\nEconomic potential of a biofuel industry in the Rathdrum-Spokane Valley\nResearch results from AHB\, including economic case study findings\nAlternative uses and alternative markets for poplar in the Pacific Northwest\nBiomass production tour highlighting operational and research poplar plots\n\nPresenters: \n\nRich Shuren – GreenWood Resources – “Hybrid Poplar in the Pacific Northwest: How it got started and where it is headed”\nKen Windram – Hayden Area Regional Sewer Board\nMatt Plaisted – Idaho Department of Environmental Quality – “The State of Recycled Water in Idaho”\nStarr Sullivan & Tom Platt – Missoula Montana Wastewater Division – “Missoula Hybrid Poplar Water Reclamation Project”\nJason Selwitz – Agriculture Center of Excellence\, Walla Walla Community College – “Technical Training in Biomass\, Bioenergy\, and Wastewater Treatment Plant Operations”\nNora Haider – Washington State University – “Advanced Hardwood Biofuels Northwest and the Growing Bioeconomy”\n\nAdvanced Hardwood Biofuels Northwest (AHB) is a program funded by the USDA National Institute of Food and Agriculture (NIFA). AHB integrates research\, education\, and extension to develop poplar-based biofuel and biochemical industries in the Pacific Northwest (PNW). \nWhen: June 7\, 2016 | 9am – 3pm \nWorkshop | 9am – 1pm at the Kootenai County Fairgrounds \n4th Annual AHB Bioenergy Field Tour | 1pm – 3pm Hayden Area Regional Sewer Board Facility \nRegister online at http://goo.gl/forms/x8zqEkzGcR  \nQuestions? Contact Nora Haider | 425-741-9962 | nora.haider@wsu.edu \nSponsored by:   Washington State University Extension with funding from Agriculture and Food Research Initiative (AFRI) Competitive Grant no. 2011-68005-30407 from the USDA National Institute of Food and Agriculture (NIFA). \n \nReasonable accommodations will be made for persons with disabilities and special needs who contact Nora Haider at nora.haider@wsu.edu\, 425-741-9962  at least two weeks prior to the event. Extension programs and employment are available to all without discrimination. Evidence of noncompliance may be reported through your local Extension office.  \n 
URL:https://hardwoodbiofuels.org/event/poplar-for-biofuels-in-the-rathdrum-spokane-valley-workshop-and-4th-annual-field-tour/
ATTACH;FMTTYPE=image/gif:https://s3.wp.wsu.edu/uploads/sites/2182/2016/03/IMG_2498.gif
ORGANIZER;CN="Nora%20Haider":MAILTO:nora.haider@wsu.edu
END:VEVENT
END:VCALENDAR