BEGIN:VCALENDAR
VERSION:2.0
PRODID:-//Advanced Hardwood Biofuels Northwest [Archived] - ECPv5.9.0//NONSGML v1.0//EN
CALSCALE:GREGORIAN
METHOD:PUBLISH
X-WR-CALNAME:Advanced Hardwood Biofuels Northwest [Archived]
X-ORIGINAL-URL:https://hardwoodbiofuels.org
X-WR-CALDESC:Events for Advanced Hardwood Biofuels Northwest [Archived]
BEGIN:VTIMEZONE
TZID:America/Los_Angeles
BEGIN:DAYLIGHT
TZOFFSETFROM:-0800
TZOFFSETTO:-0700
TZNAME:PDT
DTSTART:20160313T100000
END:DAYLIGHT
BEGIN:STANDARD
TZOFFSETFROM:-0700
TZOFFSETTO:-0800
TZNAME:PST
DTSTART:20161106T090000
END:STANDARD
END:VTIMEZONE
BEGIN:VEVENT
DTSTART;TZID=America/Los_Angeles:20160531T123000
DTEND;TZID=America/Los_Angeles:20160531T150000
DTSTAMP:20260422T043742
CREATED:20160419T190721Z
LAST-MODIFIED:20160623T191419Z
UID:7476-1464697800-1464706800@hardwoodbiofuels.org
SUMMARY:Pilchuck "Poplar for Biofuels" Field Tour
DESCRIPTION:2016 Pilchuck Field Tour near Stanwood\, WA\nMay 31\, 2016 | 12:30pm – 3:00 pm PT\nJoin us for a tour and lunch! Click here to register.\nAdvanced Hardwood Biofuels Northwest invites you to join AHB researchers for a day out in the field at the project’s Pilchuck Demonstration Site. The hybrid poplars near Stanwood\, Washington will be showing much of their full re-growth potential as they continue into their second growing season after being initially harvested in fall 2014. \nAs a purpose-grown crop for bioenergy\, the poplars highlight their potential as a sustainable feedstock for biofuel and biochemical production in the Pacific Northwest. Lunch included! \nJoin extension professionals\, researchers\, industry\, and environmental professionals\, in learning about the latest biofuel and biochemical developments in the Pacific Northwest. Topics include: \n\nGrowing hybrid poplar as a short rotation woody energy crop\nSustainable production and environmental impacts on soil\, water\, and wildlife\nBest areas to develop biofuel and biochemical industries\nBiomass production tour highlighting operational and research poplar plots\n\nWhen: Tuesday\, May 31\, 2016 12:30pm – 3:00pm PT \nWhere: near Stanwood\, Washington \nRegister: http://goo.gl/forms/nZlrmWIfIZ \nQuestions: Contact Betsy Fradd at WSU Extension bfradd@wsu.edu or 253-241-5043 \nReasonable accommodations will be made for persons with disabilities and special needs who contact Betsy Fradd at bfradd@wsu.edu\, 425-741-9962 at least two weeks prior to the event. Extension programs and employment are available to all without discrimination. Evidence of noncompliance may be reported through your local Extension office. \nAHB is supported by Agriculture and Food Research Initiative (AFRI) Competitive Grant no. 2011-68005-30407 from the USDA National Institute of Food and Agriculture (NIFA).
URL:https://hardwoodbiofuels.org/event/pilchuck-field-tour-2016/
LOCATION:Pilchuck Demonstration Site\, Stanwood\, WA\, United States
ATTACH;FMTTYPE=image/jpeg:https://s3.wp.wsu.edu/uploads/sites/2182/2016/04/poplar-trees-growing-pilchuck-e1461092812285.jpg
ORGANIZER;CN="Nora%20Haider":MAILTO:nora.haider@wsu.edu
END:VEVENT
END:VCALENDAR